BEGIN:VCALENDAR
VERSION:2.0
PRODID:-//Sieglinde Zottmaier - ECPv6.8.3//NONSGML v1.0//EN
CALSCALE:GREGORIAN
METHOD:PUBLISH
X-WR-CALNAME:Sieglinde Zottmaier
X-ORIGINAL-URL:https://sieglindezottmaier.com
X-WR-CALDESC:Events for Sieglinde Zottmaier
REFRESH-INTERVAL;VALUE=DURATION:PT1H
X-Robots-Tag:noindex
X-PUBLISHED-TTL:PT1H
BEGIN:VTIMEZONE
TZID:Europe/Berlin
BEGIN:DAYLIGHT
TZOFFSETFROM:+0100
TZOFFSETTO:+0200
TZNAME:CEST
DTSTART:20250330T010000
END:DAYLIGHT
BEGIN:STANDARD
TZOFFSETFROM:+0200
TZOFFSETTO:+0100
TZNAME:CET
DTSTART:20251026T010000
END:STANDARD
END:VTIMEZONE
BEGIN:VEVENT
DTSTART;TZID=Europe/Berlin:20250823T110000
DTEND;TZID=Europe/Berlin:20250823T160000
DTSTAMP:20260421T171309
CREATED:20241126T070857Z
LAST-MODIFIED:20250722T162923Z
UID:7999-1755946800-1755964800@sieglindezottmaier.com
SUMMARY:Nährtag - Pferde - Cacao - Gemeinschaft - 1 Tag
DESCRIPTION:Nährtag – Careday\nPferde – Cacao – Gemeinschaft \n \n \n\nLasst uns feiern\, das mitten im Leben stehen. So wie wir gerade sind. \nBring dich\, alles von dir… \nWir freuen uns auf einen berührenden Tag\, im sich begegnen. \nEine Gelegenheit die Pferde\, mich und unseren Raum zu erleben. Und Gemeinschaft\, Verbundenheit und Wohlwollen zu tanken. \n\nWir sind mit dem was ist. Alles darf! \nPferde \nDie Pferdeherde erwartet dich. \nCacao \nWenn du möchtest trinken wir zusammen eine Tasse Cacao. Sie wird für dich bereit sein. \nGemeinschaft \nIm Kreis bezeugen wir uns. \n\nIn Verbundenheit und Vorfreude \nSieglinde \n…always remember that you are sooo loved \nHier geht’s zur Anmeldung. \n\nTreffpunkt: \n11h an der Alphütte Pra Miez\, Pra Miez 110\, 7456 Marmorera \nVon der Haltestelle Marmorera Staudamm geht es über den Staudamm\, auf den Wanderweg\, ca. 30-40 Min bergauf zur Hütte \nKosten: \n70 – 100 CHF \nMitbringen: \nMittags-Picknick/Warme Kleidung/evtl. eine Decke/ Wasserflasche \nÜbergang im Flow \nWährend des Übergangs in eine andere Phase\, kann dieser Zustand zu Unbehagen\, Sorgen und Unsicherheiten führen. Während wir lernen\, wie man geschmeidig durch diese Phasen unseres Lebens gleitet\, präsent und innerlich frei\, erfahren wir die Schönheit in diesem Prozess\, im einfach Sein\, im Leben an und für sich. \nBerührt und frei. \nIch biete dir mit meiner Pferdeherde eine sichere Umgebung\, in der wir Akzeptanz\, Beobachtung und Mitgefühl kultivieren können. \n \nKontraindikationen für Cacao:  Zeremonielle Dosen von Cacao sind nicht ratsam für jemanden\, der Antidepressiva nimmt\, dessen Herz eingeschränkt arbeitet\, hohen Blutdruck oder Epilepsie hat. Falls dich das betrifft\, sprich bitte vor der Einnahme von zeremoniellen Dosen von Cacao mit deinem Arzt. Rohcacao enthält Histamin. Schwangere Frauen sollten kleinere Dosen nehmen. \n\n\n 
URL:https://sieglindezottmaier.com/event/naehrtag-pferde-cacao-0925/
LOCATION:Pferdealp Pra Miez\, Pra Miez 110\, Marmorera\, Graubünden\, 7456\, Schweiz
CATEGORIES:Cacao In Ceremony,Nährtag,Pferdebegegnung/Verbindung
ATTACH;FMTTYPE=image/jpeg:https://sieglindezottmaier.com/wp-content/uploads/2023/02/1071BADD-8C71-484D-AB10-B51C859465EB-scaled.jpeg
ORGANIZER;CN="Sieglinde Zottmaier":MAILTO:welcome@sieglindezottmaier.com
END:VEVENT
BEGIN:VEVENT
DTSTART;TZID=Europe/Berlin:20250829T180000
DTEND;TZID=Europe/Berlin:20250831T130000
DTSTAMP:20260421T171309
CREATED:20241126T082251Z
LAST-MODIFIED:20250902T195746Z
UID:8024-1756490400-1756645200@sieglindezottmaier.com
SUMMARY:"Zeremonie & Pferdeweisheit" - Wochenende - ausgebucht
DESCRIPTION:Zeremonie & Pferdeweisheit\nZwei Zeremonien mit Integration im Herdenbewusstsein \n \nIn der kraftvollen Natur des Val Surses versammeln sich die Wesenheiten. \nPetra Benedikt (www.petrabenedikt.ch) kocht für dich deine Medizin. Während zwei Zeremoniein begleitet uns dieses erfahrene\, kraftvolle Medizinweib mit ihrer Liebe\, Präsenz\, ihren Liedern und dem was es eben gerade braucht\, in deiner Verschmelzung mit dem Land. Dabei begleite ich sie und assistiere. \nIntegration. \nNach einem nährenden Mahl und dem Erfassen der Essenz deiner Reise\, lade ich euch für die nächsten Stunden in die Weisheit der Pferde ein.  \nWir begegnen den Wesenheiten der Pferdealp Pra Miez\, um uns dann mit der Pferdeherde zu verbinden. Ich führe euch sanft in die Verbindung zur Mutter\, euch selbst und den Pferden\, um die Pferdeweisheit in uns fliessen zu lassen. Die neuen Informationen der Nacht verankern sich in unseren Zellen. Für jede*n so wie es gerade ist. \nTermin: Freitag\, 29. August 2025 – Sonntag\, 31. August 2025 \nDauer: Fr\, 18h – So\, 13h \nOrt: Pferdealp Pra Miez\, Marmorera GR \nParkplatz und Treffpunkt: Staudamm Marmorera\, 7456 Marmorera \nInvestition in dich: \n690 CHF \nInklusive: 2 Zeremonien mit Pferden\, Essen und Übernachtung\, Transport \nKlicke hier für deine \nAnmeldung und Zeremonien-Fragen bei Petra \nOrt und Pferde -Fragen bei Sieglinde \noder via WhatsApp +41 79 661 98 58 \nProgramm \nTag 1: \nAnreise ab 17h00 nach Marmorera Staudamm \n18h: Ankommen und Herdenbegegnung/Erdung/Vorbereitung \nTag 2: \nZeremonie mit Amanita \ngemeinsamer Aufstieg zu der grossen Pferdeherde der Pferdealp Pra Miez \nNährendes Mahl \nReflektion und Integration \n\nTag 3: \n8h00 Zeremonie mit Amanita \n13h00 Mittagessen und Abschied \n\nMitbringen: wenn du hast\, deine veganen Kühlschrankreste zum Teilen\, Sitzkissen für draussen\, warme Hausschuhe\, Warme Kleidung und Regenkleidung\, Notizheft mit Stift\, wenn du möchtest ein Yogakissen\, Warme Schuhe mit Profilsohle\, Trinkflasche\, wenn du hast\, Trommel und Rassel\, und deinen Schlafsack\, Kuscheliges.\n\nTeilnehmerzahl: Begrenzte Plätze\, max. 6 sind verfügbar\, um eine persönliche Erfahrung sicherzustellen. Du kannst dich noch anmelden. \nHinweis: Du erhältst die Hinweise für deine Vorbereitungszeit nach Anmeldung. \nWir freuen uns darauf\, dich auf dieser spannenden zweitägigen Reise zur Selbstentdeckung und persönlichen Transformation zu begleiten. \nHerzlich \nSieglinde und Petra \nKonditionen: \nDie Commitment-Zahlung von 130 CHF/Retreat wird bei Rücktritt nicht rückerstattet. \nStornierungsbedingungen: \nDie Anzahlung wird nicht erstattet\, kann jedoch auf ein anderes Angebot übertragen werden\, wenn ein Platz frei ist. \nEmpfehlung: \nEine Kurs-Annulationsversicherung zum Beispiel: \nAllianz Travel – Reiseversicherung für Fortbildung (magroup-online.com) \nHast du noch Fragen\, ruf mich bitte an. +41 79 661 98 58 \n \n 
URL:https://sieglindezottmaier.com/event/pferdeweisheit-zeremonienwochenende-2/
LOCATION:Pferdealp Pra Miez\, Pra Miez 110\, Marmorera\, Graubünden\, 7456\, Schweiz
CATEGORIES:Amanita in Ceremony,Pferdebegegnung/Verbindung,Workshops mit und in der Pferdeherde
ATTACH;FMTTYPE=image/jpeg:https://sieglindezottmaier.com/wp-content/uploads/2024/08/Petra-und-Sieglinde.jpg
ORGANIZER;CN="Sieglinde Zottmaier":MAILTO:welcome@sieglindezottmaier.com
END:VEVENT
END:VCALENDAR