BEGIN:VCALENDAR
VERSION:2.0
PRODID:-//Sieglinde Zottmaier - ECPv6.8.3//NONSGML v1.0//EN
CALSCALE:GREGORIAN
METHOD:PUBLISH
X-ORIGINAL-URL:https://sieglindezottmaier.com
X-WR-CALDESC:Events for Sieglinde Zottmaier
REFRESH-INTERVAL;VALUE=DURATION:PT1H
X-Robots-Tag:noindex
X-PUBLISHED-TTL:PT1H
BEGIN:VTIMEZONE
TZID:Europe/Berlin
BEGIN:DAYLIGHT
TZOFFSETFROM:+0100
TZOFFSETTO:+0200
TZNAME:CEST
DTSTART:20210328T010000
END:DAYLIGHT
BEGIN:STANDARD
TZOFFSETFROM:+0200
TZOFFSETTO:+0100
TZNAME:CET
DTSTART:20211031T010000
END:STANDARD
BEGIN:DAYLIGHT
TZOFFSETFROM:+0100
TZOFFSETTO:+0200
TZNAME:CEST
DTSTART:20220327T010000
END:DAYLIGHT
BEGIN:STANDARD
TZOFFSETFROM:+0200
TZOFFSETTO:+0100
TZNAME:CET
DTSTART:20221030T010000
END:STANDARD
BEGIN:DAYLIGHT
TZOFFSETFROM:+0100
TZOFFSETTO:+0200
TZNAME:CEST
DTSTART:20230326T010000
END:DAYLIGHT
BEGIN:STANDARD
TZOFFSETFROM:+0200
TZOFFSETTO:+0100
TZNAME:CET
DTSTART:20231029T010000
END:STANDARD
END:VTIMEZONE
BEGIN:VEVENT
DTSTART;TZID=Europe/Berlin:20230519T190000
DTEND;TZID=Europe/Berlin:20230519T210000
DTSTAMP:20260424T152942
CREATED:20230131T185315Z
LAST-MODIFIED:20230519T124633Z
UID:4400-1684522800-1684530000@sieglindezottmaier.com
SUMMARY:"Dein Mond-Projekt" - 5 Online Termine
DESCRIPTION:„Dein Mond-Projekt“ – Online\nDu hast da was… \n\n\n\n\nDu weisst schon was\, oder du fühlst\, dass da etwas in die Welt kommen möchte?  \nNimm die weiblichen und männliche Energien des Mondzyklus für deinen Körper\, dein Wohlbefinden\, deine Kreativität und lebe „dein Mond-Projekt“. \nSanft und weise setzt du deinen Samen klar und intuitiv\, du darfst geschehen lassen\, Synchronizität erfahren und das sein was du wirst\, jeden Moment neu.  \nEgal was gerade gelebt werden will\, ein Arbeitsprojekt\, ein persönlicher Entwicklungsabschnitt\, eine Fastenkur… Alles darf! Wir bringen gemeinsam ins Leben. \n…und etwas Pferde-Weisheiten fliessen mit! \nIch freue mich jetzt schon auf die Vielfalt! \nWir treffen uns 5 x Online für 2h von 19h – 21h und integrieren die 7 Mondphasen in unsere Projekte\, er gibt auch die Daten vor. \n-Neumond \n-Zunehmender Mond \n-Vollmond \n-Abnehmender Mond \n-Aufsteigender Mond \n-Absteigender Mond \n-Sternzeichen \n \nVoraussetzungen: \nFür jede*n mit einer Ausrüstung um zu Zoomen  \nmind. 4 Teilnehmer*innen \nHier klicken und anmelden  \nKosten:  \nEinmalzahlung: 180 CHF \noder \n5 x 40 CHF\, jeweils vor dem Online-Treffen fällig\, du commitest dich dabei an allen 5 Treffen dabei zu sein. \n  \nTermine: \nMondprojekt 2023/4:  \n16.8.2023 ♌️/24.8.2023 ♐️/31.8.2023 ♓️/7.9.2023 ♊️/14.9.2023♍️; absteigend \n  \nMein Mondbezug \nSeit vielen Jahren lebe ich auf dem Berg\, da wo kein Licht brennt\, sondern der Mond scheint. \nDie unwiderstehliche Kraft des silberweissen reinen Mondlichts ist hier besonders spürbar. Ebenso die Dunkelheit und auch die Sternenkraft mit ihrer Milchstrasse bei Neumond. \nIch schlafe unter dem Dachfenster\, lebe jeden Mondzyklus bewusst und beziehe die Energiephasen in meinen Alltag ein. \nIch arbeite mit den unterschiedlichen Energien des Mondzyklus\, innerhalb des Womb-Reikis\, des Wombblessings. Ich begleite Jugendliche\, Frauen und Frauen in der Menopause in ihren jeweiligen Übergängen\, wobei der Zyklus immer integriert wird. \n  \nLove Sieglinde \n+41 79 661 98 58 \n  \n…always remember that you are so loved. \n 
URL:https://sieglindezottmaier.com/event/mondprojekt-3/
LOCATION:Online-via Zoom
CATEGORIES:Online
ATTACH;FMTTYPE=image/jpeg:https://sieglindezottmaier.com/wp-content/uploads/2023/01/IMG_5189-scaled.jpg
ORGANIZER;CN="Sieglinde Zottmaier":MAILTO:welcome@sieglindezottmaier.com
END:VEVENT
BEGIN:VEVENT
DTSTART;TZID=Europe/Berlin:20230321T190000
DTEND;TZID=Europe/Berlin:20230321T210000
DTSTAMP:20260424T152942
CREATED:20230131T185220Z
LAST-MODIFIED:20230131T193326Z
UID:4398-1679425200-1679432400@sieglindezottmaier.com
SUMMARY:"Dein Mond-Projekt" - 5 Online Termine
DESCRIPTION:„Dein Mond-Projekt“ – Online\nDu hast da was… \n\n\n\n\nDu weisst schon was\, oder du fühlst\, dass da etwas in die Welt kommen möchte?  \nNimm die weiblichen und männliche Energien des Mondzyklus für deinen Körper\, dein Wohlbefinden\, deine Kreativität und lebe „dein Mond-Projekt“. \nSanft und weise setzt du deinen Samen klar und intuitiv\, du darfst geschehen lassen\, Synchronizität erfahren und das sein was du wirst\, jeden Moment neu.  \nEgal was gerade gelebt werden will\, ein Arbeitsprojekt\, ein persönlicher Entwicklungsabschnitt\, eine Fastenkur… Alles darf! Wir bringen gemeinsam ins Leben. \n…und etwas Pferde-Weisheiten fliessen mit! \nIch freue mich jetzt schon auf die Vielfalt! \nWir treffen uns 5 x Online für 2h von 19h – 21h und integrieren die 7 Mondphasen in unsere Projekte\, er gibt auch die Daten vor. \n-Neumond \n-Zunehmender Mond \n-Vollmond \n-Abnehmender Mond \n-Aufsteigender Mond \n-Absteigender Mond \n-Sternzeichen \n \nVoraussetzungen: \nFür jede*n mit einer Ausrüstung um zu Zoomen  \nmind. 4 Teilnehmer*innen \nHier klicken und anmelden  \nKosten:  \nEinmalzahlung: 180 CHF \noder \n5 x 40 CHF\, jeweils vor dem Online-Treffen fällig\, du commitest dich dabei an allen 5 Treffen dabei zu sein. \n  \nTermine: \nMondprojekt 2023/1:  \n20.2.2023 ♓️/27.2.2023♊️/7.3.2023♍️/14.3.2023♐️/20.3.2023 ♓️; aufsteigend \nMondprojekt 2023/2:  \n21.3.2023 ♈️/28.3.2023 ♊️/6.4.2023 ♎️/13.4.2023 ♑️/18.4.2023♈️;aufsteigend \nMondprojekt 2023/3:  \n19.5.2023 ♉️/26.5.2023 ♍️/4.6.2023 ♐️/11.6.2023 ♓️/18.6.2023♊️;aufsteigend \nMondprojekt 2023/4:  \n16.8.2023 ♌️/24.8.2023 ♐️/31.8.2023 ♓️/7.9.2023 ♊️/14.9.2023♍️; absteigend \n  \nMein Mondbezug \nSeit vielen Jahren lebe ich auf dem Berg\, da wo kein Licht brennt\, sondern der Mond scheint. \nDie unwiderstehliche Kraft des silberweissen reinen Mondlichts ist hier besonders spürbar. Ebenso die Dunkelheit und auch die Sternenkraft mit ihrer Milchstrasse bei Neumond. \nIch schlafe unter dem Dachfenster\, lebe jeden Mondzyklus bewusst und beziehe die Energiephasen in meinen Alltag ein. \nIch arbeite mit den unterschiedlichen Energien des Mondzyklus\, innerhalb des Womb-Reikis\, des Wombblessings. Ich begleite Jugendliche\, Frauen und Frauen in der Menopause in ihren jeweiligen Übergängen\, wobei der Zyklus immer integriert wird. \n  \nLove Sieglinde \n+41 79 661 98 58 \n  \n…always remember that you are so loved. \n 
URL:https://sieglindezottmaier.com/event/mondprojekt-2/
LOCATION:Online-via Zoom
CATEGORIES:Online
ATTACH;FMTTYPE=image/jpeg:https://sieglindezottmaier.com/wp-content/uploads/2023/01/IMG_5189-scaled.jpg
ORGANIZER;CN="Sieglinde Zottmaier":MAILTO:welcome@sieglindezottmaier.com
END:VEVENT
BEGIN:VEVENT
DTSTART;TZID=Europe/Berlin:20230220T190000
DTEND;TZID=Europe/Berlin:20230220T210000
DTSTAMP:20260424T152942
CREATED:20230131T190028Z
LAST-MODIFIED:20230131T193230Z
UID:4383-1676919600-1676926800@sieglindezottmaier.com
SUMMARY:"Dein Mond-Projekt" - 5 Online Termine
DESCRIPTION:„Dein Mond-Projekt“ – Online\nDu hast da was… \n\n\n\n\nDu weisst schon was\, oder du fühlst\, dass da etwas in die Welt kommen möchte?  \nNimm die weiblichen und männliche Energien des Mondzyklus für deinen Körper\, dein Wohlbefinden\, deine Kreativität und lebe „dein Mond-Projekt“. \nSanft und weise setzt du deinen Samen klar und intuitiv\, du darfst geschehen lassen\, Synchronizität erfahren und das sein was du wirst\, jeden Moment neu.  \nEgal was gerade gelebt werden will\, ein Arbeitsprojekt\, ein persönlicher Entwicklungsabschnitt\, eine Fastenkur… Alles darf! Wir bringen gemeinsam ins Leben. \n…und etwas Pferde-Weisheiten fliessen mit! \nIch freue mich jetzt schon auf die Vielfalt! \nWir treffen uns 5 x Online für 2h von 19h – 21h und integrieren die 7 Mondphasen in unsere Projekte\, er gibt auch die Daten vor. \n-Neumond \n-Zunehmender Mond \n-Vollmond \n-Abnehmender Mond \n-Aufsteigender Mond \n-Absteigender Mond \n-Sternzeichen \n \nVoraussetzungen: \nFür jede*n mit einer Ausrüstung um zu Zoomen  \nmind. 4 Teilnehmer*innen \nHier klicken und anmelden  \nKosten:  \nEinmalzahlung: 180 CHF \noder \n5 x 40 CHF\, jeweils vor dem Online-Treffen fällig\, du commitest dich dabei an allen 5 Treffen dabei zu sein. \n  \nTermine: \nMondprojekt 2023/1:  \n20.2.2023 ♓️/27.2.2023♊️/7.3.2023♍️/14.3.2023♐️/20.3.2023 ♓️; aufsteigend \nMondprojekt 2023/2:  \n21.3.2023 ♈️/28.3.2023 ♊️/6.4.2023 ♎️/13.4.2023 ♑️/18.4.2023♈️;aufsteigend \nMondprojekt 2023/3:  \n19.5.2023 ♉️/26.5.2023 ♍️/4.6.2023 ♐️/11.6.2023 ♓️/18.6.2023♊️;aufsteigend \nMondprojekt 2023/4:  \n16.8.2023 ♌️/24.8.2023 ♐️/31.8.2023 ♓️/7.9.2023 ♊️/14.9.2023♍️; absteigend \n  \nMein Mondbezug \nSeit vielen Jahren lebe ich auf dem Berg\, da wo kein Licht brennt\, sondern der Mond scheint. \nDie unwiderstehliche Kraft des silberweissen reinen Mondlichts ist hier besonders spürbar. Ebenso die Dunkelheit und auch die Sternenkraft mit ihrer Milchstrasse bei Neumond. \nIch schlafe unter dem Dachfenster\, lebe jeden Mondzyklus bewusst und beziehe die Energiephasen in meinen Alltag ein. \nIch arbeite mit den unterschiedlichen Energien des Mondzyklus\, innerhalb des Womb-Reikis\, des Wombblessings. Ich begleite Jugendliche\, Frauen und Frauen in der Menopause in ihren jeweiligen Übergängen\, wobei der Zyklus immer integriert wird. \n  \nLove Sieglinde \n+41 79 661 98 58 \n  \n…always remember that you are so loved. \n 
URL:https://sieglindezottmaier.com/event/mondprojekt/
LOCATION:Online-via Zoom
CATEGORIES:Online
ATTACH;FMTTYPE=image/jpeg:https://sieglindezottmaier.com/wp-content/uploads/2023/01/IMG_5189-scaled.jpg
ORGANIZER;CN="Sieglinde Zottmaier":MAILTO:welcome@sieglindezottmaier.com
END:VEVENT
BEGIN:VEVENT
DTSTART;TZID=Europe/Berlin:20221005T183000
DTEND;TZID=Europe/Berlin:20221005T203000
DTSTAMP:20260424T152942
CREATED:20190529T151447Z
LAST-MODIFIED:20220206T165004Z
UID:3618-1664994600-1665001800@sieglindezottmaier.com
SUMMARY:"Weibliche Gelassenheit für dich und dein Pferd" - 4- Monate Online Programm für Frauen
DESCRIPTION:Weibliche Gelassenheit\n4-Monate Online-Programm für Frauen\nFührung aus deinem Einssein \nWie geht das? Du weisst es schon. \nAls Frauen empfangen wir Führung. Sie fliesst durch uns hindurch. \nGefühlt aus unserem Schossraum\, irdisch und kosmisch. \nAls zyklische Wesen durchleben wir regelmässig unterschiedliche Energien und Kreativitätsfelder. \nDiese wahrzunehmen\, herunterzubrechen und mit ihnen zu leben\, deiner Weiblichkeit Würde zu schenken und dadurch in die Führung zu kommen\, lassen dich «gelassen» wirken. \n\nDie Form\, wie das genau bei dir aussieht\, das weisst nur du\, «weil nur du deine Geschichte gelebt und erlebt hast. Weil du dich selbst kennst\, weisst wer du bist\, was du fühlst\, was du tust und warum du es tust.» (Auszug Nahuatl-Segen). \n\nEs ist eine Freude\, wenn sich jede Einzelne von euch auf den Weg macht\, diese ureigene Form für sich und die Welt zu erforschen\, um sie der Welt zu zeigen und sie ihr zu schenken. Weibliche Führung aus der Ganzheit\, aus deinem Einssein\, ist ein Mitgehen mit dem was ist\, jeden Moment. Und dabei auch mal zu stolpern\, seine Idee auf den Kopf stellen\, oder verwerfen\, um etwas ganz anderes ins Leben kommen zu lassen. Aufrichtig und in Würde und Demut. \n\nPferde wissen wovon ich schreibe. Deshalb sind sie wundervolle MeisterInnen dich in deine Gelassenheit zu stupsen. \nWenn du ein Pferd im Feld hast\, das dich auf dieser Reise begleiten möchte\, dann wunderbar. \nAuf der anderen Seite brauchst du kein Pferd für dieses Programm. Du begegnest dem Pferd in dir\, es wird mit dir gehen. \nDeine dich durchfliessende Führung wird dir die richtigen Impulse geben. \nDieser eröffnete Pfad wird dich für jegliche Art Ausrichtung nähren. Falls du diese mit deinem Pferd durchlebst\, wird es dir die Wandlung direkt spiegeln. \nFragen und Anmeldung HIER \nInhalt: \n\nEröffnen des Gefässes: fb-Gruppe «Weibliche Gelassenheit»\n8 Online-Treffen via Zoom\n4 personalisierte Selbsterfahrungs-Aufgaben\, mit und ohne Pferd mit Reflektion\nMeditationen\, Zyklische Energien und andere Tools\n1 Cacao-Zeremonie\nje ein 1:1 Online Coaching à 60 Min (je nach Moment\, kann das auch eine Fernbehandlung sein)\nDienliche Infos werden zur Verfügung gestellt in der fb-Gruppe\n\n\nForschungsbereiche: \nMonat 1: Wie überprüfe ich meinen Boden? Stabilität/Sicherheit Lecks/Muster unterbrechen \nMonat 2: Wie erlaube ich mich in meine Empfängnis? Frau sein Womb/Zyklus \nMonat 3: Was macht meinen Rückhalt aus? Ausrichtung Innerer Mann \nMonat 4: Wie erschliesst sich mir mein Ein ssein als Urkraft? Kosmos Führung – Innen wie aussen – geschehen lassen – Würde \nFragen und Anmeldung HIER \nDaten: \nBeginn immer 18h \nMonat 1: Mi\, 5.10.\, 2.5h / Mi\, 19.10.\, 1.5h \nMonat 2: Mi\, 2.11.\, 2.5h / Mi\, 16.11.\, 1.5h \nMonat 3: 30.11.\, 2.5h / Mi\, 14.12.\, 1.5h \nMonat 4: Mi\, 4.1.23\, 2.5h / Mi\, 18.1.23\, 2h \n\nKosten: \n2’200 CHF
URL:https://sieglindezottmaier.com/event/gelassenheit/
LOCATION:Online-via Zoom
CATEGORIES:Online
ATTACH;FMTTYPE=image/jpeg:https://sieglindezottmaier.com/wp-content/uploads/2019/05/Terra-Materna_Ruis_Feldmann063.jpg
ORGANIZER;CN="Sieglinde Zottmaier":MAILTO:welcome@sieglindezottmaier.com
END:VEVENT
BEGIN:VEVENT
DTSTART;TZID=Europe/Berlin:20220216T184500
DTEND;TZID=Europe/Berlin:20220216T201500
DTSTAMP:20260424T152942
CREATED:20190529T151447Z
LAST-MODIFIED:20211231T113719Z
UID:3152-1645037100-1645042500@sieglindezottmaier.com
SUMMARY:Worldwide Womb Blessing® - Online "Womb Renewal"
DESCRIPTION:Female Energy Awakening\nWorldwide Womb Blessing® – Initiatorin Miranda Gray \nLiebe Frauen \nIn meinem Sein mit den Pferden erfahre ich immer wieder neu und tiefer wie wundervoll leicht die Verbindung mit ihnen ist\, wenn ich aus meinem Womb-Bewusstsein heraus lebe. \nDurch meinen Weg des Womb Blessings® erfuhr und erfahre ich eine tiefe Erdung meines Seins als Frau. In mir\, als Frau\, hat sich eine Gelassenheit entfaltet\, die mir einen noch nicht gekannten Boden bietet. Dafür bin ich sehr dankbar\, gerade heute in diesen Zeiten des Umbruchs. \nAufgrund dieser Erfahrung möchte ich dich teilhaben lassen an diesem wundervollen Geschenk\, dem Worldwide Womb Blessing® ‘Female Energy Awakening’. \nFünf Mal im Jahr wird das Worldwide Womb Blessing®\, zusätzlich zu den persönlichen Womb Blessings®\, von Miranda Gray und den Moon Mothers gesendet. Du darfst einfach empfangen\, zusammen mit ca. 260’000 Frauen in 150 Ländern weltweit. Ja\, so viele Frauen nehmen dabei teil. Allein das berührt mich. Genaueres findest du hier: www.wombblessing.com \nAm Mittwoch\, den 16. Februar 2022\, um 18h45 – 20h15 lade ich dich in meinen Circle of Sisters ein\, um mit mir am Worldwide Womb Blessing® teilzunehmen. \nMöchtest du in meinem Circle of Sisters teilnehmen musst du dich für den 18h UK-Zeit Termin registrieren\, um die Energie empfangen zu können. Die Anmeldung findest du hier: Register • The Worldwide Womb Blessing® . Bist du registriert kannst du mir eine Mail senden: pacific@terramaterna.ch und du erhältst den Zoom-Link für meinen Online-Circle. \nWir empfangen und sind verbunden mit zig-Tausend Frauen weltweit. \nWas für eine Kraft in das Kollektiv! \nIch führe euch durch die Zeremonie\, eröffne den Raum\, lese die Meditationen und Earth-Yoni-Segnung und schliesse den Raum. Du musst nichts tun. Du empfängst. \nDie Womb Blessing Energie ist ein Geschenk– ein Geschenk an jede Frau jeglichen Alters\, die diese Segnung gern empfangen möchte\, um Heilung in unsere Weiblichkeit zu bringen\, in unsere Gebärmutter und unseren Zyklus\, in unsere Kreativität und Fruchtbarkeit\, in unsere Sexualität und Spiritualität. \nWarum teilnehmen? Weil es sich gut anfühlt\, ein Nähren deiner Selbstverständlichkeit Frau zu sein. \nHIER ANMELDEN \nDas brauchst du: \nZwei kleine „Womb Schalen“ (Gebärmutterschalen) – diese können jede Art von Schalen oder Tassen sein. In einer Schale Trinkwasser\, in der anderen ein Teelicht \nEin Tuch oder einen Schal um ihn um deine Schultern zu legen\, um einen heiligen Raum zu schaffen und den Fokus in deinen Körper zu bringen. \nEinen Ausdruck von «Die Earth -Yoni-Segnung geben» und einen Ausdruck der Archetypen Meditation – den link für die Downloads erhältst du\, sobald du dich auf wombblessing.com registriert hast. \nEtwas zu Essen für danach. \nUm die Erfahrung zu verstärken\, kannst du: \nEinen Altar kreieren\, den Raum dekorieren\, um den Archetypen der Erde zu reflektieren. \n\nDanach: \nDu kannst ein persönliches Womb Healing – Balance Weiblicher Energien nach einer persönlichen oder weltweiten Gebärmutter-Segnung empfangen. Die Gebärmutterheilung ist so konzipiert\, dass sie dich während des Geburtsprozesses nach der Gebärmutter-Segnung mit Liebe unterstützt\, während die Energie in dir weiterwirkt. \n\nAls Fernbehandlung zur Integration biete ich dir: \n1:1 Session Womb Healing ‚Female Energy Balancing‘ inkl. Schossraum-Energie-Spender à 35 Min:  \n70 CHF \n1:1 Session ‚Female Soul Healing‘ à 50 Min: 100 CHF \n1:1 Session Womb Riding ‚Female Energy Integration‘ à 90 Min:  185 CHF \n\nBist du an einem Termin interessiert melde dich bei mir: Sieglinde Zottmaier\, pacific@terramaterna.ch\, +41 79 661 98 58 \n\nMöchtest du ein persönliches 1:1 Session Womb Blessing Attunement ‚Female Energy Awakening into Love‘ à 60 Min: 125 CHF\, empfangen\, dann ruf mich an oder schreibe mir für einen Termin im Val Surses\, 7456 Marmorera\, oder auf der Alp Flix\, 7456 Sur. \n\nIch freue mich. Love and blessings. \nSieglinde \n\n  \n 
URL:https://sieglindezottmaier.com/event/wwwb-online-3/
LOCATION:Online-via Zoom
CATEGORIES:Online
ORGANIZER;CN="Sieglinde Zottmaier":MAILTO:welcome@sieglindezottmaier.com
END:VEVENT
BEGIN:VEVENT
DTSTART;TZID=Europe/Berlin:20220202T180000
DTEND;TZID=Europe/Berlin:20220202T203000
DTSTAMP:20260424T152943
CREATED:20190529T151447Z
LAST-MODIFIED:20220206T163040Z
UID:3563-1643824800-1643833800@sieglindezottmaier.com
SUMMARY:"Weibliche Gelassenheit für dich und dein Pferd" - 4- Monate Online Programm für Frauen
DESCRIPTION:Weibliche Gelassenheit\n4-Monate Online-Programm für Frauen\nFührung aus deinem Einssein \nWie geht das? Du weisst es schon. \nAls Frauen empfangen wir Führung. Sie fliesst durch uns hindurch. \nGefühlt aus unserem Schossraum\, irdisch und kosmisch. \nAls zyklische Wesen durchleben wir regelmässig unterschiedliche Energien und Kreativitätsfelder. \nDiese wahrzunehmen\, herunterzubrechen und mit ihnen zu leben\, deiner Weiblichkeit Würde zu schenken und dadurch in die Führung zu kommen\, lassen dich «gelassen» wirken. \n\nDie Form\, wie das genau bei dir aussieht\, das weisst nur du\, «weil nur du deine Geschichte gelebt und erlebt hast. Weil du dich selbst kennst\, weisst wer du bist\, was du fühlst\, was du tust und warum du es tust.» (Auszug Nahuatl-Segen). \n\nEs ist eine Freude\, wenn sich jede Einzelne von euch auf den Weg macht\, diese ureigene Form für sich und die Welt zu erforschen\, um sie der Welt zu zeigen und sie ihr zu schenken. Weibliche Führung aus der Ganzheit\, aus deinem Einssein\, ist ein Mitgehen mit dem was ist\, jeden Moment. Und dabei auch mal zu stolpern\, seine Idee auf den Kopf stellen\, oder verwerfen\, um etwas ganz anderes ins Leben kommen zu lassen. Aufrichtig und in Würde. \n\nPferde wissen wovon ich schreibe. Deshalb sind sie wundervolle MeisterInnen dich in deine Gelassenheit zu stupsen. \nWenn du ein Pferd im Feld hast\, das dich auf dieser Reise begleiten möchte\, dann wunderbar. \nAuf der anderen Seite brauchst du kein Pferd für dieses Programm. Du begegnest dem Pferd in dir\, es wird mit dir gehen. \nDeine dich durchfliessende Führung wird dir die richtigen Impulse geben. \nDieser eröffnete Pfad wird dich für jegliche Art Ausrichtung nähren. Falls du diese mit deinem Pferd durchlebst\, wird es dir die Wandlung direkt spiegeln. \nAnmeldung HIER \nInhalt: \n\nEröffnen des Gefässes: fb-Gruppe «Weibliche Gelassenheit»\n8 Online-Treffen via Zoom\n4 personalisierte Selbsterfahrungs-Aufgaben\, mit und ohne Pferd mit Reflektion\nMeditationen\, Zyklische Energien und andere Tools\n1 Geführtes Worldwide Wombblessing am 16.2.\n1 Cacaozeremonie\n1 1:1 Online Coaching à 60 Min (je nach Moment\, kann das auch eine Fernbehandlung sein)\nDienliche Infos werden zur Verfügung gestellt in der fb-Gruppe\n\n\nForschungsbereiche: \nMonat 1: Wie überprüfe ich meinen Boden? Stabilität/Sicherheit Lecks/Muster unterbrechen \nMonat 2: Wie erlaube ich mich in meine Empfängnis? Frau sein Womb/Zyklus \nMonat 3: Was macht meinen Rückhalt aus? Ausrichtung Innerer Mann \nMonat 4: Wie erschliesst sich mir mein Ein ssein als Urkraft? Kosmos Führung – Innen wie aussen – geschehen lassen – Würde \nAnmeldung HIER \nDaten: \nMonat 1: Mi\, 2.2./ 16.2. WWWB \nMonat 2: 2.3./16.3. \nMonat 3: 30.3/13.4. \nMonat 4: 27.4./11.5. \n\nKosten: \n1’250 CHF
URL:https://sieglindezottmaier.com/event/gelassenheit-2/
LOCATION:Online-via Zoom
CATEGORIES:Online
ATTACH;FMTTYPE=image/jpeg:https://sieglindezottmaier.com/wp-content/uploads/2019/05/Terra-Materna_Ruis_Feldmann063.jpg
ORGANIZER;CN="Sieglinde Zottmaier":MAILTO:welcome@sieglindezottmaier.com
END:VEVENT
BEGIN:VEVENT
DTSTART;TZID=Europe/Berlin:20211219T184500
DTEND;TZID=Europe/Berlin:20211219T201500
DTSTAMP:20260424T152943
CREATED:20190529T151447Z
LAST-MODIFIED:20211216T080059Z
UID:3128-1639939500-1639944900@sieglindezottmaier.com
SUMMARY:Worldwide Womb Blessing® - Online Circle of Sisters
DESCRIPTION:Female Energy Awakening\nWorldwide Womb Blessing® – Initiatorin Miranda Gray \nLiebe Frauen \nIn meinem Sein mit den Pferden erfahre ich immer wieder neu und tiefer wie wundervoll leicht die Verbindung mit ihnen ist\, wenn ich aus meinem Womb-Bewusstsein heraus lebe. \nDurch meinen Weg des Womb Blessings® erfuhr und erfahre ich eine tiefe Erdung meines Seins als Frau. In mir\, als Frau\, hat sich eine Gelassenheit entfaltet\, die mir einen noch nicht gekannten Boden bietet. Dafür bin ich sehr dankbar\, gerade heute in diesen Zeiten des Umbruchs. \nAufgrund dieser Erfahrung möchte ich dich teilhaben lassen an diesem wundervollen Geschenk\, dem Worldwide Womb Blessing® ‘Female Energy Awakening’. \nFünf Mal im Jahr wird das Worldwide Womb Blessing®\, zusätzlich zu den persönlichen Womb Blessings®\, von Miranda Gray und den Moon Mothers gesendet. Du darfst einfach empfangen\, zusammen mit ca. 260’000 Frauen in 150 Ländern weltweit. Ja\, so viele Frauen nehmen dabei teil. Allein das berührt mich. Genaueres findest du hier: www.wombblessing.com \nAm Sonntag\, den 19. Dezember 2021\, um 18h45 – 20h15 lade ich dich in meinen Circle of Sisters ein\, um mit mir am Worldwide Womb Blessing® teilzunehmen. \nMöchtest du in meinem Circle of Sisters teilnehmen musst du dich für den 18h UK-Zeit Termin registrieren\, um die Energie empfangen zu können. Die Anmeldung findest du hier: Register • The Worldwide Womb Blessing® . Bist du registriert kannst du mir eine Mail senden: pacific@terramaterna.ch und du erhältst den Zoom-Link für meinen Online-Circle. \nWir empfangen und sind verbunden mit zig-Tausend Frauen weltweit. \nWas für eine Kraft in das Kollektiv! \nIch führe euch durch die Zeremonie\, eröffne den Raum\, lese die Meditationen und Earth-Yoni-Segnung und schliesse den Raum. Du musst nichts tun. Du empfängst. \nDie Womb Blessing Energie ist ein Geschenk– ein Geschenk an jede Frau jeglichen Alters\, die diese Segnung gern empfangen möchte\, um Heilung in unsere Weiblichkeit zu bringen\, in unsere Gebärmutter und unseren Zyklus\, in unsere Kreativität und Fruchtbarkeit\, in unsere Sexualität und Spiritualität. \nWarum teilnehmen? Weil es sich gut anfühlt\, ein Nähren deiner Selbstverständlichkeit Frau zu sein. \nHIER ANMELDEN \nDas brauchst du: \nZwei kleine „Womb Schalen“ (Gebärmutterschalen) – diese können jede Art von Schalen oder Tassen sein. In einer Schale Trinkwasser\, in der anderen ein Teelicht \nEin Tuch oder einen Schal um ihn um deine Schultern zu legen\, um einen heiligen Raum zu schaffen und den Fokus in deinen Körper zu bringen. \nEinen Ausdruck von «Die Earth -Yoni-Segnung geben» und einen Ausdruck der Archetypen Meditation – den link für die Downloads erhältst du\, sobald du dich auf wombblessing.com registriert hast. \nEtwas zu Essen für danach. \nUm die Erfahrung zu verstärken\, kannst du: \nEinen Altar kreieren\, den Raum dekorieren\, um den Archetypen der Erde zu reflektieren. \n\nDanach: \nDu kannst ein persönliches Womb Healing – Balance Weiblicher Energien nach einer persönlichen oder weltweiten Gebärmutter-Segnung empfangen. Die Gebärmutterheilung ist so konzipiert\, dass sie dich während des Geburtsprozesses nach der Gebärmutter-Segnung mit Liebe unterstützt\, während die Energie in dir weiterwirkt. \n\nAls Fernbehandlung zur Integration biete ich dir: \n1:1 Session Womb Healing ‚Female Energy Balancing‘ inkl. Schossraum-Energie-Spender à 35 Min:  \n70 CHF \n1:1 Session ‚Female Soul Healing‘ à 50 Min: 100 CHF \n1:1 Session Womb Riding ‚Female Energy Integration‘ à 90 Min:  185 CHF \n\nBist du an einem Termin interessiert melde dich bei mir: Sieglinde Zottmaier\, pacific@terramaterna.ch\, +41 79 661 98 58 \n\nMöchtest du ein persönliches 1:1 Session Womb Blessing Attunement ‚Female Energy Awakening into Love‘ à 60 Min: 125 CHF\, empfangen\, dann ruf mich an oder schreibe mir für einen Termin im Val Surses\, 7456 Marmorera\, oder auf der Alp Flix\, 7456 Sur. \n\nIch freue mich. Love and blessings. \nSieglinde \n\n  \n 
URL:https://sieglindezottmaier.com/event/wwwb-online/
LOCATION:Online-via Zoom
CATEGORIES:Online
ORGANIZER;CN="Sieglinde Zottmaier":MAILTO:welcome@sieglindezottmaier.com
END:VEVENT
END:VCALENDAR