BEGIN:VCALENDAR
VERSION:2.0
PRODID:-//Sieglinde Zottmaier - ECPv6.8.3//NONSGML v1.0//EN
CALSCALE:GREGORIAN
METHOD:PUBLISH
X-ORIGINAL-URL:https://sieglindezottmaier.com
X-WR-CALDESC:Events for Sieglinde Zottmaier
REFRESH-INTERVAL;VALUE=DURATION:PT1H
X-Robots-Tag:noindex
X-PUBLISHED-TTL:PT1H
BEGIN:VTIMEZONE
TZID:Europe/Berlin
BEGIN:DAYLIGHT
TZOFFSETFROM:+0100
TZOFFSETTO:+0200
TZNAME:CEST
DTSTART:20220327T010000
END:DAYLIGHT
BEGIN:STANDARD
TZOFFSETFROM:+0200
TZOFFSETTO:+0100
TZNAME:CET
DTSTART:20221030T010000
END:STANDARD
END:VTIMEZONE
BEGIN:VEVENT
DTSTART;TZID=Europe/Berlin:20220313T100000
DTEND;TZID=Europe/Berlin:20220313T160000
DTSTAMP:20260422T105935
CREATED:20190529T115817Z
LAST-MODIFIED:20220315T075436Z
UID:3362-1647165600-1647187200@sieglindezottmaier.com
SUMMARY:Rote Mondin - Tagesworkshop
DESCRIPTION:Rote Mondin\n\nGebärmutterkreise – Zyklus-Weisheit \nWir Frauen sind zyklische Wesen\, in unserem Zyklus an den Kosmos gebunden. Was für ein Gefühl des Eins seins. Innerhalb unserer Zyklen durchleben wir verschiedene Phasen\, verschiedene Energie- und Kreativitätsphasen. Das fordert uns in die Hingabe an unser zyklisches Dasein. \nWir durchwandern gemeinsam die unterschiedlichen Archetypinnen in uns\, die unser Sein mitgestalten. Wir erfahren\, wie wir sie integrieren\, balancieren und mit ihnen in eine gelassene Kreativität tanzen. \nLeben wir unsere Zyklen gelassen\, in Würde\, leben wir unsere Power. \nNun entscheidest du\, wie du diese Kraft lebst. \nHast du keinen Zyklus\, dann gehst du mit dem Mondinnenzyklus. Die Verbundenheit von Mondinnen- und weiblichen Zyklus lässt dich tiefer in dein kosmisches Sein ankommen. \n Ich freue mich mit euch zu kreisen… \nIn Verbundenheit und Vorfreude \nSieglinde \n…always remember that you are sooo loved \nHier geht’s zur Anmeldung. \n Kleingruppe: max. 4 Teilnehmerinnen \nKosten: \n300 CHF \nInklusive Begegnung mit meinen Stuten \nTreffpunkt: \nTerra Materna im Tgesa da Cumegn\, Veia Natons 9\, 7456 Marmorera \nvon der Postautohaltestelle: Marmorera Dorf\, ca. 5 Min zum Tgesa da Cumegn \nSpäter gehen wir gemeinsam ca. 15 Min zu Fuss bis zum Stall am oberen Ende des Dorfs \nMitbringen: \nHausschuhe oder warme Socken\, Warme Kleidung und warme Schuhe mit Profil für draussen\, Trinkflasche\, Mittagspicknick… \n  \n  \n 
URL:https://sieglindezottmaier.com/event/rote-mondin/
LOCATION:„Motta Cruschetta“ – Eine naturale Pferdefarm\, Veia Natons 15\, Marmorera\, Graubünden\, 7456\, Schweiz
CATEGORIES:Cacao In Ceremony,Nährtag
ATTACH;FMTTYPE=image/jpeg:https://sieglindezottmaier.com/wp-content/uploads/2019/05/AL1450263_Original-scaled-e1596457041585.jpg
ORGANIZER;CN="Sieglinde Zottmaier":MAILTO:welcome@sieglindezottmaier.com
END:VEVENT
END:VCALENDAR